BEGIN:VCALENDAR
PRODID:-//Dokk 5//iCal4j 1.0//EN
VERSION:2.0
CALSCALE:GREGORIAN
BEGIN:VEVENT
DTSTAMP:20260420T105328Z
DTSTART;VALUE=DATE:20260514
DTEND;VALUE=DATE:20260515
SUMMARY:Competition Lab for Judges
LOCATION:null
DESCRIPTION:
UID:ef24dd16-dbf4-4c51-82ef-d879318d1b46
END:VEVENT
END:VCALENDAR
